BEGIN:VCALENDAR
VERSION:2.0
BEGIN:VEVENT
DTSTART:20230219T210000
DURATION:PT00H00M00S
SUMMARY:[DEADLINE] ΕΡΓΑΣΙΑ  ΕΞΕΤΑΣΕΩΝ
DESCRIPTION:ΕΡΓΑΣΙΑ 
(deadline: 2023-02-19 21:00:00)
BEGIN:VALARM
TRIGGER:-PT24H
DURATION:PT10H
ACTION:DISPLAY
DESCRIPTION:DEADLINE REMINDER for ΕΡΓΑΣΙΑ ΕΞΕΤΑΣΕΩΝ
END:VALARM
END:VEVENT
END:VCALENDAR
