BEGIN:VCALENDAR
VERSION:2.0
BEGIN:VEVENT
DTSTART:20220614T235500
DURATION:PT00H00M00S
SUMMARY:[DEADLINE] ΕΡΓΑΣΙΑ
DESCRIPTION: Δημιουργία Ψηφιακής Στρατηγικής και υλοποίηση Digital Marketing Plan
Ετοιμάστε το δικό σας σχέδιο ψηφιακής στρατηγικής για μία τουριστική επιχείρηση (μπορείτε να επιλέξετε ότι επιχείρηση επιιθυμείτε). Το σχέδιό σας θα πρέπει οπωσδήποτε να προορίζεται για το ψηφιακό περιβάλλον και θα πρέπει να υλοποιηθεί σε ένα ορισμένο χρονικό διάστημα. Για την εκπόνησή του θα πρέπει να λάβετε υπόψη το κοινό στο οποίο απευθύνεται ο οργανισμός ή επιχείρηση και τις επικοινωνιακές δράσεις ή ενέργειες τις οποίες έχει ήδη αναπτύξει. Θα πρέπει να περιλαμβάνει συγκεκριμένες δράσεις ή ενέργειες επικοινωνίας και να προσδιορίζει τα μέσα που θα χρησιμοποιήσετε.
Το σχέδιό σας θα πρέπει να περιλαμβάνει συγκεκριμένες δράσεις ή ενέργειες και να προσδιορίζει τα μέσα που θα χρησιμοποιηθούν για να το υποστηρίξουν στο ψηφιακό περιβάλλον (π.χ. βίντεο στο YouTube, ανάρτηση στο Facebook, podcast στον ιστότοπο).
 
Απαντήστε με σαφήνεια στα παρακάτω ερωτήματα:

Γιατί επιλέξατε τις συγκεκριμένες ενέργειες και τα συγκεκριμένα μέσα για την προβολή τους;


Ποιοι είναι οι στόχοι των ενεργειών σας και σε ποιες οι κατηγορίες κοινού στις οποίες απευθύνονται και τα προσδοκώμενα αποτελέσματά τους;
Ποιο μήνυμα θα προβληθεί σε κάθε μέσο που επιλέξατε; Σχεδιάστε το μήνυμα σας ανάλογα με το μέσο.
Ποια είναι τα πλεονεκτήματα της χρήσης ψηφιακών μέσων για την προβολή προϊόντων, υπηρεσιών και οργανισμών;
Με ποιους τρόπους θα αξιολογούσατε την αποτελεσματικότητα του σχεδίου της επικοινωνιακής στρατηγικής σας στο ψηφιακό περιβάλλον;

Παραδοτέα: Digital Marketing Plan
Δημιουργία προφίλ και αναρτήσεις σε 3 τουλάχιστον κοινωνικά δίκτυα
(deadline: 2022-06-14 23:55:00)
BEGIN:VALARM
TRIGGER:-PT24H
DURATION:PT10H
ACTION:DISPLAY
DESCRIPTION:DEADLINE REMINDER for ΕΡΓΑΣΙΑ
END:VALARM
END:VEVENT
BEGIN:VEVENT
DTSTART:20220614T235500
DURATION:PT00H00M00S
SUMMARY:[DEADLINE] ΕΡΓΑΣΙΑ
DESCRIPTION:Δημιουργείστε ένα σύντομο διαφημιστικά μηνύμα που θα προβληθεί στα κοινωνικά δίκτυα για την επιχείρηση για την οποία θα κάνετε το digital marketing plan

Το κάθε βίντεο αυτό θα πρέπει να έχει διάρκεια εως 60sec.
Στο βίντεο θα πρέπει να χρησιμοποιήσετε τουλάχιστον ένα εφέ εικόνας, ένα εφέ μετάβασης εικόνας και ένα εφέ ήχου.
Το βίντεο θα πρέπει να είναι σε μορφή .mp

Για τις λήψεις σας θα πρέπει να ενημερώσετε το συνεργείο μας έτσι ώστε να κάνει τις σχετικές λήψεις
Θα πρέπει να καταθέσετε:

Το βίντεο


Το Script


Ατομικό report. Το ατομικό report θα περιέχει την αναλυτική παρουσίαση της διαδικασίας που ακολουθήθηκε για την παραγωγή του βίντεο

(deadline: 2022-06-14 23:55:00)
BEGIN:VALARM
TRIGGER:-PT24H
DURATION:PT10H
ACTION:DISPLAY
DESCRIPTION:DEADLINE REMINDER for ΕΡΓΑΣΙΑ
END:VALARM
END:VEVENT
BEGIN:VEVENT
DTSTART:20220916T235500
DURATION:PT00H00M00S
SUMMARY:[DEADLINE] Δημιουργία Ψηφιακής Στρατηγικής και υλοποίηση Digital Marketing Plan
DESCRIPTION:Ετοιμάστε το δικό σας σχέδιο ψηφιακής στρατηγικής για μία τουριστική επιχείρηση (μπορείτε να επιλέξετε ότι επιχείρηση επιιθυμείτε). Το σχέδιό σας θα πρέπει οπωσδήποτε να προορίζεται για το ψηφιακό περιβάλλον και θα πρέπει να υλοποιηθεί σε ένα ορισμένο χρονικό διάστημα. Για την εκπόνησή του θα πρέπει να λάβετε υπόψη το κοινό στο οποίο απευθύνεται ο οργανισμός ή επιχείρηση και τις επικοινωνιακές δράσεις ή ενέργειες τις οποίες έχει ήδη αναπτύξει. Θα πρέπει να περιλαμβάνει συγκεκριμένες δράσεις ή ενέργειες επικοινωνίας και να προσδιορίζει τα μέσα που θα χρησιμοποιήσετε.
Το σχέδιό σας θα πρέπει να περιλαμβάνει συγκεκριμένες δράσεις ή ενέργειες και να προσδιορίζει τα μέσα που θα χρησιμοποιηθούν για να το υποστηρίξουν στο ψηφιακό περιβάλλον (π.χ. βίντεο στο YouTube, ανάρτηση στο Facebook, podcast στον ιστότοπο).
 
Απαντήστε με σαφήνεια στα παρακάτω ερωτήματα:
Γιατί επιλέξατε τις συγκεκριμένες ενέργειες και τα συγκεκριμένα μέσα για την προβολή τους;Ποιοι είναι οι στόχοι των ενεργειών σας και σε ποιες οι κατηγορίες κοινού στις οποίες απευθύνονται και τα προσδοκώμενα αποτελέσματά τους;Ποιο μήνυμα θα προβληθεί σε κάθε μέσο που επιλέξατε; Σχεδιάστε το μήνυμα σας ανάλογα με το μέσο και αιτιολογήστε την επιλογή του κάθε μέσου που επιλέξατεΜε ποιους τρόπους θα αξιολογούσατε την αποτελεσματικότητα του σχεδίου της επικοινωνιακής στρατηγικής σας στο ψηφιακό περιβάλλον;Παραδοτέα: Digital Marketing Plan
Δημιουργία προφίλ και αναρτήσεις σε 3 τουλάχιστον κοινωνικά δίκτυα
(deadline: 2022-09-16 23:55:00)
BEGIN:VALARM
TRIGGER:-PT24H
DURATION:PT10H
ACTION:DISPLAY
DESCRIPTION:DEADLINE REMINDER for Δημιουργία Ψηφιακής Στρατηγικής και υλοποίηση Digital Marketing Plan
END:VALARM
END:VEVENT
BEGIN:VEVENT
DTSTART:20220916T235500
DURATION:PT00H00M00S
SUMMARY:[DEADLINE] Βίντεο
DESCRIPTION:Δημιουργείστε ένα σύντομο διαφημιστικά μηνύμα που θα προβληθεί στα κοινωνικά δίκτυα για την επιχείρηση για την οποία θα κάνετε το digital marketing plan

Το κάθε βίντεο αυτό θα πρέπει να έχει διάρκεια εως 60sec.
Στο βίντεο θα πρέπει να χρησιμοποιήσετε τουλάχιστον ένα εφέ εικόνας, ένα εφέ μετάβασης εικόνας και ένα εφέ ήχου.
Το βίντεο θα πρέπει να είναι σε μορφή .mp

Για τις λήψεις σας θα πρέπει να ενημερώσετε το συνεργείο μας έτσι ώστε να κάνει τις σχετικές λήψεις
Θα πρέπει να καταθέσετε:

Το βίντεο


Το Script


Ατομικό report. Το ατομικό report θα περιέχει την αναλυτική παρουσίαση της διαδικασίας που ακολουθήθηκε για την παραγωγή του βίντεο

(deadline: 2022-09-16 23:55:00)
BEGIN:VALARM
TRIGGER:-PT24H
DURATION:PT10H
ACTION:DISPLAY
DESCRIPTION:DEADLINE REMINDER for Βίντεο
END:VALARM
END:VEVENT
BEGIN:VEVENT
DTSTART:20230311T103000
DURATION:PT00H00M00S
SUMMARY:[DEADLINE] Εργασία 1ο μάθημα - Δ. Μαδυτινός
DESCRIPTION:Αναφερθείτε στον αριθμό χρηστών Κοινωνικών δικτύων παγκοσμίως (2 διαφάνειες - διαχρονικότητα / μελλοντική εκτίμηση)
Αναφερθείτε στα πιό δημοφιλή Κοινωνικά δίκτυα (2 διαφάνειες - διαχρονικότητα / μελλοντική εκτίμηση)
Αναφερθείτε στους λογαρισαμούς Isntagram παγκοσμίως και πως προσεγγίζουν τη βιομηχανία του τουρισμού (2 διαφάνειες - διαχρονικότητα / μελλοντική εκτίμηση)
Αναφερθείτε στην ενεργή διείσδυση κοινωνικών δικτύων σε διάφορες χώρες  (2 διαφάνειες - διαχρονικότητα / μελλοντική εκτίμηση)

 
 
σ
(deadline: 2023-03-11 10:30:00)
BEGIN:VALARM
TRIGGER:-PT24H
DURATION:PT10H
ACTION:DISPLAY
DESCRIPTION:DEADLINE REMINDER for Εργασία 1ο μάθημα - Δ. Μαδυτινός
END:VALARM
END:VEVENT
END:VCALENDAR
