BEGIN:VCALENDAR
VERSION:2.0
BEGIN:VEVENT
DTSTART:20200627T113000
DURATION:PT00H00M00S
SUMMARY:[DEADLINE] Τεστ για Εξετάσεις
DESCRIPTION:Τι ειναι το Affiliate marlekting. Αναπτύξτε σε 10 γραμμές.
(deadline: 2020-06-27 11:30:00)
BEGIN:VALARM
TRIGGER:-PT24H
DURATION:PT10H
ACTION:DISPLAY
DESCRIPTION:DEADLINE REMINDER for Τεστ για Εξετάσεις
END:VALARM
END:VEVENT
BEGIN:VEVENT
DTSTART:20200627T124500
DURATION:PT00H00M00S
SUMMARY:[DEADLINE] ΕΛΕΓΧΟΣ ΠΡΟΟΔΟΥ 1
DESCRIPTION:(deadline: 2020-06-27 12:45:00)
BEGIN:VALARM
TRIGGER:-PT24H
DURATION:PT10H
ACTION:DISPLAY
DESCRIPTION:DEADLINE REMINDER for ΕΛΕΓΧΟΣ ΠΡΟΟΔΟΥ 1
END:VALARM
END:VEVENT
BEGIN:VEVENT
DTSTART:20200703T195500
DURATION:PT00H00M00S
SUMMARY:[DEADLINE] ΘΕΜΑΤΑ ΕΞΕΤΑΣΤΙΚΗΣ -  e-Business &  ΨΗΦΙΑΚΟ ΜΑΡΚΕΤΙΝΓΚ - ΙΟΥΛΙΟΣ 2020
DESCRIPTION:Προσοχή:
Κάντε από μια αναφορά (report) σε τέσσερα (4) από τα παρακάτω θέματα:
Μέτρηση Αποτελεσματικότητας στο ψηφιακό μάρκετινγκ.
Παράγοντες Επιτυχίας και Υλοποίησης στρατηγικών Ψηφιακού Επιχειρείν από μικρομεσαίες επιχειρήσεις.
Μοντέλο διαδικασιών στρατηγικής για το σχεδιασμό του Ψηφιακού Μάρκετινγκ – SOSTAC.
Affiliate marketing / Affiliate networks.
Μάρκετινγκ περιεχομένου &amp; Μάρκετινγκ μέσω κοινωνικών δικτύων.
Πολυ-καναλικό Μάρκετινγκ.
e-mail marketing
Θέλουμε να δημιουργήσουμε persona ώστε να δουν το site του τμήματος Διοικητικής Επιστήμης και Τεχνολογίας. Ποιές ενέργειες θα πρέπει να κάνουμε;
Η κάθε αναφορά θα είναι από 100 μέχρι 120 λέξεις και θα χαρακτηρίζεται από κριτική ανάλυση
(deadline: 2020-07-03 19:55:00)
BEGIN:VALARM
TRIGGER:-PT24H
DURATION:PT10H
ACTION:DISPLAY
DESCRIPTION:DEADLINE REMINDER for ΘΕΜΑΤΑ ΕΞΕΤΑΣΤΙΚΗΣ - e-Business & ΨΗΦΙΑΚΟ ΜΑΡΚΕΤΙΝΓΚ - ΙΟΥΛΙΟΣ 2020
END:VALARM
END:VEVENT
BEGIN:VEVENT
DTSTART:20210709T204500
DURATION:PT00H00M00S
SUMMARY:[DEADLINE] Εξέταση β φάση / eBusiness - Digital marketing - 9.7.2021 (για 70%)
DESCRIPTION:Απαντήστε online και σύντομα σε 5 από τις παρακάτω 8 ερωτήσεις (max 60-100 λέξεις η κάθε απάντηση):
e-mail marketing
SEO
Social media marketing
Paid search engine marketing
Content marketing
CTR
Bounce rate
Influencer marketing

(deadline: 2021-07-09 20:45:00)
BEGIN:VALARM
TRIGGER:-PT24H
DURATION:PT10H
ACTION:DISPLAY
DESCRIPTION:DEADLINE REMINDER for Εξέταση β φάση / eBusiness - Digital marketing - 9.7.2021 (για 70%)
END:VALARM
END:VEVENT
BEGIN:VEVENT
DTSTART:20240615T111500
DURATION:PT00H00M00S
SUMMARY:[DEADLINE] 2η Φάση - Εξέταση Αντιστοίχισης (ΕΠΑΝΑΛΗΨΗ)
DESCRIPTION:(deadline: 2024-06-15 11:15:00)
BEGIN:VALARM
TRIGGER:-PT24H
DURATION:PT10H
ACTION:DISPLAY
DESCRIPTION:DEADLINE REMINDER for 2η Φάση - Εξέταση Αντιστοίχισης (ΕΠΑΝΑΛΗΨΗ)
END:VALARM
END:VEVENT
BEGIN:VEVENT
DTSTART:20240622T110500
DURATION:PT00H00M00S
SUMMARY:[DEADLINE] Εξέταση Πολλαπλών Επιλογών - e-Business & Digital Marketing
DESCRIPTION:(deadline: 2024-06-22 11:05:00)
BEGIN:VALARM
TRIGGER:-PT24H
DURATION:PT10H
ACTION:DISPLAY
DESCRIPTION:DEADLINE REMINDER for Εξέταση Πολλαπλών Επιλογών - e-Business & Digital Marketing
END:VALARM
END:VEVENT
BEGIN:VEVENT
DTSTART:20240622T110500
DURATION:PT00H00M00S
SUMMARY:[DEADLINE] ΑΣΚΗΣΗ ΕΠΑΝΑΛΗΨΗΣ - Πολλαπλών Επιλογών - e-Business & Digital Marketing
DESCRIPTION:(deadline: 2024-06-22 11:05:00)
BEGIN:VALARM
TRIGGER:-PT24H
DURATION:PT10H
ACTION:DISPLAY
DESCRIPTION:DEADLINE REMINDER for ΑΣΚΗΣΗ ΕΠΑΝΑΛΗΨΗΣ - Πολλαπλών Επιλογών - e-Business & Digital Marketing
END:VALARM
END:VEVENT
BEGIN:VEVENT
DTSTART:20250405T120000
DURATION:PT00H00M00S
SUMMARY:[DEADLINE] 1η Εργασία Ψηφιακό Marketing - για 5%
DESCRIPTION:Εργαστείτε ομαδικά (2-4 φοιτητές σε κάθε ομάδα) και δημιουργείστε μια αναφορά (Word / 400- 600 λέξεις) καθώς και μια παρουσίαση (pptx ή άλλου μέσου / 15-18 slides) με ένα από τα θέματα που επισυνάπτονται.
Αν επιθυμείτε βρείτε και άλλες πηγές (μέχρι 3)
Καταθέστε δύο αρχεία (α) Word + (β) pptx (ή άλλο μέσο παρουσίασης).
Προσοχή στην Ονομασία των αρχείων (να περιλαμβάνει όλα τα ονόματα των συμμετεχόντων στην ομάδα).
Ανεβάστε τα αρχεία στο λογαριασμό σας στο eclass (Εργασίες).
(deadline: 2025-04-05 12:00:00)
BEGIN:VALARM
TRIGGER:-PT24H
DURATION:PT10H
ACTION:DISPLAY
DESCRIPTION:DEADLINE REMINDER for 1η Εργασία Ψηφιακό Marketing - για 5%
END:VALARM
END:VEVENT
BEGIN:VEVENT
DTSTART:20250412T120000
DURATION:PT00H00M00S
SUMMARY:[DEADLINE] 2η Εργασία Ψηφιακό Marketing - για 5%
DESCRIPTION:(deadline: 2025-04-12 12:00:00)
BEGIN:VALARM
TRIGGER:-PT24H
DURATION:PT10H
ACTION:DISPLAY
DESCRIPTION:DEADLINE REMINDER for 2η Εργασία Ψηφιακό Marketing - για 5%
END:VALARM
END:VEVENT
BEGIN:VEVENT
DTSTART:20250510T080000
DURATION:PT00H00M00S
SUMMARY:[DEADLINE] 3η Εργασία Ψηφιακό Marketing 15%
DESCRIPTION:(deadline: 2025-05-10 08:00:00)
BEGIN:VALARM
TRIGGER:-PT24H
DURATION:PT10H
ACTION:DISPLAY
DESCRIPTION:DEADLINE REMINDER for 3η Εργασία Ψηφιακό Marketing 15%
END:VALARM
END:VEVENT
BEGIN:VEVENT
DTSTART:20250510T080000
DURATION:PT00H00M00S
SUMMARY:[DEADLINE] 4η Εργασία Ψηφιακό Marketing 15%
DESCRIPTION:(deadline: 2025-05-10 08:00:00)
BEGIN:VALARM
TRIGGER:-PT24H
DURATION:PT10H
ACTION:DISPLAY
DESCRIPTION:DEADLINE REMINDER for 4η Εργασία Ψηφιακό Marketing 15%
END:VALARM
END:VEVENT
BEGIN:VEVENT
DTSTART:20250519T224000
DURATION:PT00H00M00S
SUMMARY:[DEADLINE] Εξέταση Πολλαπλών Επιλογών -  Digital Marketing  19-5-2025
DESCRIPTION:(deadline: 2025-05-19 22:40:00)
BEGIN:VALARM
TRIGGER:-PT24H
DURATION:PT10H
ACTION:DISPLAY
DESCRIPTION:DEADLINE REMINDER for Εξέταση Πολλαπλών Επιλογών - Digital Marketing 19-5-2025
END:VALARM
END:VEVENT
BEGIN:VEVENT
DTSTART:20260220T185000
DURATION:PT00H00M00S
SUMMARY:[DEADLINE] 1η Εργασία για 5% - ΜΒΑ - Ψηφιακό Marketing
DESCRIPTION:Εργαστείτε ομαδικά (2 φοιτητές σε κάθε ομάδα) και δημιουργείστε μια παρουσίαση (pptx ή άλλου μέσου / 12-18 slides) με ΕΝΑ από τα θέματα που αναγράφονται στο επισυναπτόμενο αρχείο.
(deadline: 2026-02-20 18:50:00)
BEGIN:VALARM
TRIGGER:-PT24H
DURATION:PT10H
ACTION:DISPLAY
DESCRIPTION:DEADLINE REMINDER for 1η Εργασία για 5% - ΜΒΑ - Ψηφιακό Marketing
END:VALARM
END:VEVENT
BEGIN:VEVENT
DTSTART:20260227T192000
DURATION:PT00H00M00S
SUMMARY:[DEADLINE] 3ο μάθημα - Έλεγχος Ορολογίας ΨΜ
DESCRIPTION:(deadline: 2026-02-27 19:20:00)
BEGIN:VALARM
TRIGGER:-PT24H
DURATION:PT10H
ACTION:DISPLAY
DESCRIPTION:DEADLINE REMINDER for 3ο μάθημα - Έλεγχος Ορολογίας ΨΜ
END:VALARM
END:VEVENT
BEGIN:VEVENT
DTSTART:20260306T181500
DURATION:PT00H00M00S
SUMMARY:[DEADLINE] 4ο μάθημα - Έλεγχος Ορολογίας ΨΜ (Επανάληψη)
DESCRIPTION:(deadline: 2026-03-06 18:15:00)
BEGIN:VALARM
TRIGGER:-PT24H
DURATION:PT10H
ACTION:DISPLAY
DESCRIPTION:DEADLINE REMINDER for 4ο μάθημα - Έλεγχος Ορολογίας ΨΜ (Επανάληψη)
END:VALARM
END:VEVENT
BEGIN:VEVENT
DTSTART:20260314T120000
DURATION:PT00H00M00S
SUMMARY:[DEADLINE] 2η Εργασία για 5% - ΜΒΑ - Ψηφιακό Marketing
DESCRIPTION:Επιλέξτε δυο (2) από τα θέματα του επισυναπτόμενου εγγράφου.
Εργαστείτε ομαδικά (2-3 φοιτητές σε κάθε ομάδα) και δημιουργείστε δύο παρουσιάσεις (pptx ή άλλου μέσου / 15 - 20 slides) μια για το κάθε ένα από τα δύο θέματα που επιλέξατε
(deadline: 2026-03-14 12:00:00)
BEGIN:VALARM
TRIGGER:-PT24H
DURATION:PT10H
ACTION:DISPLAY
DESCRIPTION:DEADLINE REMINDER for 2η Εργασία για 5% - ΜΒΑ - Ψηφιακό Marketing
END:VALARM
END:VEVENT
BEGIN:VEVENT
DTSTART:20260314T120000
DURATION:PT00H00M00S
SUMMARY:[DEADLINE] 3η Εργασία - Ψηφιακό Μάρκετινγκ (2026)
DESCRIPTION:(deadline: 2026-03-14 12:00:00)
BEGIN:VALARM
TRIGGER:-PT24H
DURATION:PT10H
ACTION:DISPLAY
DESCRIPTION:DEADLINE REMINDER for 3η Εργασία - Ψηφιακό Μάρκετινγκ (2026)
END:VALARM
END:VEVENT
BEGIN:VEVENT
DTSTART:20260529T130000
DURATION:PT00H00M00S
SUMMARY:[DEADLINE] 4η ΕΡΓΑΣΙΑ ΓΙΑ 15% ΤΟΥ ΣΥΝΟΛΙΚΟΥ ΒΑΘΜΟΥ - ΨΜ
DESCRIPTION:(deadline: 2026-05-29 13:00:00)
BEGIN:VALARM
TRIGGER:-PT24H
DURATION:PT10H
ACTION:DISPLAY
DESCRIPTION:DEADLINE REMINDER for 4η ΕΡΓΑΣΙΑ ΓΙΑ 15% ΤΟΥ ΣΥΝΟΛΙΚΟΥ ΒΑΘΜΟΥ - ΨΜ
END:VALARM
END:VEVENT
END:VCALENDAR
